BEGIN:VCALENDAR
VERSION:2.0
PRODID:-//Minard - ECPv4.6.25//NONSGML v1.0//EN
CALSCALE:GREGORIAN
METHOD:PUBLISH
X-WR-CALNAME:Minard
X-ORIGINAL-URL:https://minard.be
X-WR-CALDESC:Events for Minard
BEGIN:VEVENT
DTSTART;VALUE=DATE:20161015
DTEND;VALUE=DATE:20161201
DTSTAMP:20260419T172628
CREATED:20161007T125817Z
LAST-MODIFIED:20161007T125817Z
UID:25650-1476489600-1480550399@minard.be
SUMMARY:Homeless Movies / In De stad
DESCRIPTION:Zes kunstenaars:\n Mekhitar Garabedian \n Eva Giolo \n Katrin Kamrau \n Jasper Rigole \n Meggy Rustamova \n Lisa Spilliaert \nZes locaties:\n Louis Pasteurlaan – KASK\, ingang KASKcafé \n Sint-Michielshelling – Sphinx Cinema \n Woodrow Wilsonplein – Administratief Centrum Zuid \n Veldstraat – Uitbureau en cultuurdienst Stad Gent \n Sint-Pietersstation – Inkomhal \n Walpoortstraat – Minard Schouwburg  \nI.s.m. KASK | School of Arts van de Hogent \n  \nAls museum voor het dagelijks leven in de 20ste eeuw beheert het Gentse Huis van Alijn een grote collectie home movies of familiefilm. Samen met gastcurator Edwin Carels nodigde het zes kunstenaars uit om zich onder te dompelen in deze collectie en er een nieuwe kortfilm uit te distilleren. Het resultaat daarvan is vanaf 15 oktober voor het eerst te zien in zes filmcabines\, verspreid over de Gentse binnenstad. De cabines isoleren de kijker voor een paar minuten van de buitenwereld. Kijkend naar de herinneringen van anderen\, is het voyeurisme nooit ver weg. \nHet project roept vragen op over evoluties in beeldcultuur\, identiteit\, mediagebruik en geheugen\, en de dynamiek tussen publieke en private context. In de cabine aan de Minard Schouwburg kan u de kortfilm Pic-Nic van Lisa Spilliaert bekijken. Zij is gefascineerd door de (zogenaamde) ongedwongen momenten in de dubbelportretten die amateurfilmers van zichzelf ensceneren. Ze begint haar visuele essay met het spiegelen van een Super8-opname uit het archief van het Huis van Alijn aan een video-opname\, in 1990 gemaakt van en door haar eigen ouders. Verder peilt ze naar de drijfveer die mensen bepaalde momenten doet registreren\, om zo hun instabiele bestaan te bevestigen. \nTe zien van 15.10.2016 tot en met 30.11.2016 \nOp 1 december (Museumnacht) verhuizen de filmcabines naar de binnentuin van het Huis van Alijn waar ze nog tot 15 januari te bezoeken zijn. \n
URL:https://minard.be/voorstelling/homeless-movies-in-de-stad/
LOCATION:Minard\, Gent\, Gent\, 9000
CATEGORIES:expo
ATTACH;FMTTYPE=image/jpeg:https://minard.be/schouwburg/wp-content/uploads/2016/10/Lisa-Spilliaert.jpg
END:VEVENT
BEGIN:VEVENT
DTSTART;TZID=UTC+1:20161121T200000
DTEND;TZID=UTC+1:20161124T200000
DTSTAMP:20260419T172628
CREATED:20160831T083852Z
LAST-MODIFIED:20160831T083852Z
UID:25450-1479758400-1480017600@minard.be
SUMMARY:De Gouden Draak
DESCRIPTION:Een spiegel voor de geglobaliseerde samenleving \nEen grootstad\, ergens in Europa. Op de benedenverdieping van een appartementsgebouw bevindt zich het Chinees restaurant De Gouden Draak.  In de veel te kleine keuken staan zes sans-papiersgekneld tussen de dampende wokpannen. De jongste vergaat van de tandpijn maar durft niet naar de tandarts omdat hij illegaal in het land verblijft. Ondertussen stroomt de eettent vol met klanten: een toekomstige vader die eigenlijk geen kind wil\, een man met een vreemde bijverdienste en twee stewardessen die net terug zijn van een lange trip. \nIn deze zoetzure komedie vertolkt het Antwerpse theatercollectief de Roovers maar liefst achttien verschillende personages. ‘De Gouden Draak’ toont het leven van illegale vluchtelingen in Europa en laat zien dat mensen van diverse pluimage – ook al zijn ze in deze geglobaliseerde samenleving vreemden voor elkaar – toch met elkaar te maken krijgen. Het stuk geeft een gezicht aan zij die in heel Europa aanwezig zijn\, maar die wij nauwelijks – willen? – zien. \n
URL:https://minard.be/voorstelling/de-gouden-draak/
LOCATION:Minard\, Gent\, Gent\, 9000
CATEGORIES:theater
ATTACH;FMTTYPE=image/jpeg:https://minard.be/schouwburg/wp-content/uploads/2016/08/89eca13a-aa84-43f0-9448-9af9803c030e.jpg
END:VEVENT
END:VCALENDAR