BEGIN:VCALENDAR
VERSION:2.0
PRODID:-//Minard - ECPv4.6.25//NONSGML v1.0//EN
CALSCALE:GREGORIAN
METHOD:PUBLISH
X-WR-CALNAME:Minard
X-ORIGINAL-URL:https://minard.be
X-WR-CALDESC:Events for Minard
BEGIN:VEVENT
DTSTART;TZID=UTC+1:20211111T200000
DTEND;TZID=UTC+1:20211112T220000
DTSTAMP:20260421T201827
CREATED:20191106T195439Z
LAST-MODIFIED:20211103T114925Z
UID:27991-1636660800-1636754400@minard.be
SUMMARY:DE DESPERADO'S VAN DE VLAAMSE POEZIE - Delphine Lecompte\, Jan Decleir\, Gerda Dendooven & Roland
DESCRIPTION: \n  \n* UPDATE *\nTot onze spijt moet Delphine Lecompte zich terugtrekken omwille van gezondheidsredenen.\nToch willen haar drie kompanen haar hun liefde verklaren door de geplande voorstellingen van ‘De Desperado’s van de Vlaamse poëzie’ te laten doorgaan.\nJan Decleir leest Delphine Lecompte\, Tom Lanoye\, Hugo Claus\, Daniil Charms … \n  \n  \n\n  \n  \n  \nNiemand minder dan de robuuste monumentale fenomenale acteur Jan Decleir\,\nDe authentieke onbevreesde legendarische blueszanger Roland\,\nDe weerbarstige sluwe onovertroffen illustratrice Gerda Dendooven\,\nEn de baldadige tomeloze hondsbrutale dichteres Delphine Lecompte\nBoksen een poëzieprogramma in elkaar dat meer doet denken aan punk\nEn Johnny The Selfkicker\, dan aan preutsheid en Christine D’haen. En gelukkig maar! \nJan Decleir zal zijn lievelingsverzen van poëtische helden als Claus en Charms voordragen\,\nRoland gooit er af en toe een rauw puur heartfelt blueslied tegenaan\,\nGerda die tekent live als een bezetene\, en Lecompte draagt haar eigen gedichten voor. \nWie niet komt verdient het om gelyncht te worden. \nInterview met Delphine Lecompte – De Afspraak VRT \n  \n \n\n\n\n
URL:https://minard.be/voorstelling/delphine-lecompte-jan-decleir-gerda-dendooven-roland/
LOCATION:Minard\, Gent\, Gent\, 9000
CATEGORIES:literatuur/muziek
ATTACH;FMTTYPE=image/jpeg:https://minard.be/schouwburg/wp-content/uploads/2019/11/desperados-fb-event-3.jpg
END:VEVENT
END:VCALENDAR