BEGIN:VCALENDAR
VERSION:2.0
PRODID:-//Minard - ECPv4.6.25//NONSGML v1.0//EN
CALSCALE:GREGORIAN
METHOD:PUBLISH
X-WR-CALNAME:Minard
X-ORIGINAL-URL:https://minard.be
X-WR-CALDESC:Events for Minard
BEGIN:VEVENT
DTSTART;TZID=UTC+1:20270122T200000
DTEND;TZID=UTC+1:20270122T220000
DTSTAMP:20260421T232143
CREATED:20260420T084146Z
LAST-MODIFIED:20260420T084146Z
UID:43080-1800648000-1800655200@minard.be
SUMMARY:GÜNTER LESAGE - TISOVERALIETS
DESCRIPTION:\nEen portfolio van vakmanschap \nWaar trek je de grens in je spel? Of in je leven? En in je relaties? In het semi-autobiografische TISOVERALIETS onderzoekt Günther Lesage op ludieke wijze hoe zijn leven tegen beter weten in uit de hand loopt. Deels ligt dat aan hemzelf\, maar er blijken ook duistere krachten aan het werk die hem tot speelbal maken. \n\n\nAan het begin van zijn ‘lezing’ TISOVERALIETS stelt Günther Lesage de vraag: ‘Wanneer is genoeg genoeg?’ Dat is althans het plan: een lezing op een podium\, met een pupiter\, een onbestaand decor en een duidelijk onderwerp. Niets loopt echter zoals gepland. Een klein ongelukje bij het begin zet het concept van een lezing meteen op losse schroeven. De twijfel groeit door Lesages interactie met het publiek\, die in de loop van de voorstelling nog zal aandikken. Dit is geen gewone lezing\, noch een gewone theatervoorstelling. \n\n  \n \n\n \n\n
URL:https://minard.be/voorstelling/gunter-lesage-tisoveraliets/
LOCATION:Minard\, Gent\, Gent\, 9000
CATEGORIES:lezing,theater
ATTACH;FMTTYPE=image/jpeg:https://minard.be/schouwburg/wp-content/uploads/2026/03/270122_tisoveraliets.jpeg
END:VEVENT
END:VCALENDAR