BEGIN:VCALENDAR
VERSION:2.0
PRODID:-//Minard - ECPv4.6.25//NONSGML v1.0//EN
CALSCALE:GREGORIAN
METHOD:PUBLISH
X-WR-CALNAME:Minard
X-ORIGINAL-URL:https://minard.be
X-WR-CALDESC:Events for Minard
BEGIN:VEVENT
DTSTART;TZID=UTC+1:20201010T150000
DTEND;TZID=UTC+1:20201010T170000
DTSTAMP:20260421T090321
CREATED:20200915T081304Z
LAST-MODIFIED:20200915T091617Z
UID:29292-1602342000-1602349200@minard.be
SUMMARY:Het Betere Boek - Ontdenk Afrika
DESCRIPTION:HET BETERE BOEK: ONTDENK AFRIKA\n \nOp zaterdag 10 oktober 2020 verovert het Willemsfonds de stad Gent voor de 10e editie van Het Betere Boek. Onze curatoren Nadia Dala en Omar Ba stelden een programma samen voor dit literair festival op verschillende locaties in de stad. Zo ontgiften we onze blik op Afrika. Op de verschillende halteplaatsen tonen we de rijkdom en diversiteit van de literatuur van en over Afrika. \n  \nGrensoverschrijdende literatuur \nOntdenk Afrika betekent een tabula rasa. ‘Dat betekent dat we ons losmaken van zoveel mogelijk vooropgestelde meningen over schrijvend talent en literatuur uit Afrika\, zowel positieve als negatieve\,’ zeggen curatoren Omar Ba en Nadia Dala. Ze gaan voluit voor een zoektocht naar universele literatuur: ‘We gaan op zoek naar teksten die de geografische en mentale grensposten overstijgen.’ \n  \nHet Betere Boek doorkruist daarbij het hele Afrikaanse continent: van Noord naar Zuid en van Oost naar West.  Dala en Ba zeggen: ‘Landen als Marokko\, Angola\, Ivoorkust\, Zuid-Afrika staan allemaal op gelijke voet.’ \n  \nInfo & tickets: hetbetereboek.be \n  \n
URL:https://minard.be/voorstelling/het-betere-boek-ontdenk-afrika/
LOCATION:Minard\, Gent\, Gent\, 9000
ATTACH;FMTTYPE=image/png:https://minard.be/schouwburg/wp-content/uploads/2020/09/Schermafbeelding-2020-09-15-om-11.12.37.png
END:VEVENT
END:VCALENDAR