BEGIN:VCALENDAR
VERSION:2.0
PRODID:-//Minard - ECPv4.6.25//NONSGML v1.0//EN
CALSCALE:GREGORIAN
METHOD:PUBLISH
X-WR-CALNAME:Minard
X-ORIGINAL-URL:https://minard.be
X-WR-CALDESC:Events for Minard
BEGIN:VEVENT
DTSTART;TZID=UTC+1:20181122T200000
DTEND;TZID=UTC+1:20181122T220000
DTSTAMP:20260419T121043
CREATED:20181031T210354Z
LAST-MODIFIED:20181031T210354Z
UID:26820-1542916800-1542924000@minard.be
SUMMARY:HUMO’s Comedy Cup - Halve Finale
DESCRIPTION:Kom naar de halve finale van HUMO’s Comedy Cup! \nOntdek als allereerste wie de opvolger wordt van Jens Dendoncker\, Lukas Lelie\, William Boeva\, Bart Cannaerts\, Gunter Lamoot\, Wouter Deprez\, Wim Helsen en nog vele anderen. Deze acht grappenmakers nemen deel aan de halve finale: Amelie Albrecht\, Elias Van Dingenen\, Hans Cools\, Jan Linssen\, Jasper Posson\, Jeroen Verdick\, Rik Van Geel en Sander VDV. \nMet Seppe Toremans als MC en als special guest oud-winnaar William Boeva. \n
URL:https://minard.be/voorstelling/humos-comedy-cup-halve-finale/
LOCATION:Minard\, Gent\, Gent\, 9000
CATEGORIES:comedy,humor
ATTACH;FMTTYPE=image/jpeg:https://minard.be/schouwburg/wp-content/uploads/2018/10/logo-HumoComedyCup.jpg
END:VEVENT
END:VCALENDAR