BEGIN:VCALENDAR
VERSION:2.0
PRODID:-//Minard - ECPv4.6.25//NONSGML v1.0//EN
CALSCALE:GREGORIAN
METHOD:PUBLISH
X-WR-CALNAME:Minard
X-ORIGINAL-URL:https://minard.be
X-WR-CALDESC:Events for Minard
BEGIN:VEVENT
DTSTART;TZID=UTC+1:20241117T200000
DTEND;TZID=UTC+1:20241117T213000
DTSTAMP:20260419T135704
CREATED:20240131T154703Z
LAST-MODIFIED:20240131T162952Z
UID:36496-1731873600-1731879000@minard.be
SUMMARY:IWEIN SEGERS - VIVA MORRISSEY AND MARR !
DESCRIPTION: \n  \nIwein Segers (Radio DJ\, Acteur\, Komiek en Zanger)\, Pieter-Jan De Weyngaert (Acteur en Muzikant\, De Duiven\, Iedereen Beroemd)\, Gianni Marzo (Gitarist bij o.a. Isbells en Marble Sounds) en Ephraïm Cielen (Muzikant\, Laïka\, HetPaleis\, Ellen Schoenaerts Kwartet) vieren de zestigste verjaardag van Gitaar Genie Johnny Marr\, maar ook de Zalige Zanglijster Morrissey wordt 65 op 22 mei 2024!  \nWat maakt The Smiths nu nog steeds zo straf en wat zijn de nummers die hun elk apart zo uniek en iconisch maken?  \nTekst\, muziek en uitleg krijg je van op de vier muzikanten hun slaapkamer die voor de volledigheid naar een podium in uw buurt wordt verplaatst. Teenage weltshmerz en vrolijke weemoed op de deuntjes van The Smiths maar ook The The\, Richard Hawley en Modest Mouse passeren de revue… \nEn enkele verrassingen\, die U uiteraard niet had zien aankomen. \n  \nIwein Segers (Acteur\, Komiek\, Zanger en Willy DJ)\nGianni Marzo (Gitarist bij oa Isbells en Marble Sounds)\nPieter-Jan De Weyngaert (Acteur enMuzikant\, De Duiven\, Iedereen Beroemd)\nEphraïm Cielen (Muzikant\, Laïka\, HetPaleis\, Ellen Schoenaerts Kwartet) \n
URL:https://minard.be/voorstelling/iwein-segers-viva-morrisey-and-marr/
LOCATION:Minard\, Gent\, Gent\, 9000
CATEGORIES:concert
ATTACH;FMTTYPE=image/png:https://minard.be/schouwburg/wp-content/uploads/2024/01/Schermafbeelding-2024-01-25-om-14.59.25.png
END:VEVENT
END:VCALENDAR