BEGIN:VCALENDAR
VERSION:2.0
PRODID:-//Minard - ECPv4.6.25//NONSGML v1.0//EN
CALSCALE:GREGORIAN
METHOD:PUBLISH
X-WR-CALNAME:Minard
X-ORIGINAL-URL:https://minard.be
X-WR-CALDESC:Events for Minard
BEGIN:VEVENT
DTSTART;TZID=UTC+1:20181124T200000
DTEND;TZID=UTC+1:20181124T220000
DTSTAMP:20260419T152157
CREATED:20180614T085039Z
LAST-MODIFIED:20180614T085039Z
UID:26654-1543089600-1543096800@minard.be
SUMMARY:JOSEPHINE
DESCRIPTION:Josephine won onlangs de Publieksprijs bij Humo’s Rock Rally\, toen nog als Josefien Deloof. ‘Een dijk van een soulstem’ (daMusic)\, ‘een retestrakke begeleidingsband’ (De Morgen)\, een breekbare én krachtige stem die je bij je nekvel grijpt (Humo)\, ‘een nonchalance extraordinaire’ (Red Bull): Josephine doet harten sneller slaan. In 2017 werd ze geselecteerd voor de Nieuwe Lichting en won ze de tweede plaats bij Westtalent. \nHaar wondermooie hese stem zweeft tussen pop en soul; haar voorbeelden zijn Alice Phoebe Lou\, Amy Winehouse en Alabama Shakes. Ze reist het land rond als support act van Milo Meskens\, Nordmann en Ozark Henry\, en is\, met een full band om zich heen\, klaar voor een hartverwarmende herfstavond in de prachtige Minardschouwburg \n
URL:https://minard.be/voorstelling/josephine/
LOCATION:Minard\, Gent\, Gent\, 9000
CATEGORIES:concert
ATTACH;FMTTYPE=image/jpeg:https://minard.be/schouwburg/wp-content/uploads/2018/06/28415-josephine.jpg
END:VEVENT
END:VCALENDAR