BEGIN:VCALENDAR
VERSION:2.0
PRODID:-//Minard - ECPv4.6.25//NONSGML v1.0//EN
CALSCALE:GREGORIAN
METHOD:PUBLISH
X-WR-CALNAME:Minard
X-ORIGINAL-URL:https://minard.be
X-WR-CALDESC:Events for Minard
BEGIN:VEVENT
DTSTART;TZID=UTC+1:20190201T200000
DTEND;TZID=UTC+1:20190201T220000
DTSTAMP:20260419T152916
CREATED:20180611T123711Z
LAST-MODIFIED:20180920T123723Z
UID:26624-1549051200-1549058400@minard.be
SUMMARY:MAANLANDER
DESCRIPTION:Vol goede moed belandde LEMS-1963-4 op Aarde na een verblijf van 48 jaar op de maan. Het ruimtetuig kwam naar hier op zoek naar zijn held\, zijn houvast\, in de hoop dat hij met onze zwaartekracht wat beter kon landen. Wat hij vond was alles wat hij nooit had verwacht. \nDe 22 jarige\, net afgestudeerde Lander Severins hoopt vooral iets te vinden dat niet meteen uit zijn vingers glipt. Desnoods fietsend van Zoersel tot in Warschau zoekt hij naar iets tastbaars om voor te vechten. In dit debuut biedt u hem het antwoord. Toch? \nIn een regie van Tim Goditiabois en Janne Desmet balanceert Lander op de grens comedy en theater met een wervelend muzikaal verhaal dat u kevers\, stranden en kermissen met hilarische en ontroerende ontmoetingen tot aan de maan en terug brengt. \nTwee jaar geleden begon het verhaal van LEMS voor Lander\, hij speelde ondertussen meer dan 150 try outs in huiskamers en kleine zaaltjes in Vlaanderen en Nederland. Dit seizoen landt hij voor het eerst in de theaters. Zin om te komen? Kijk vlug op de speellijst! Benieuwd naar de muziek? Luister hier! \n
URL:https://minard.be/voorstelling/maanlander/
LOCATION:Minard\, Gent\, Gent\, 9000
CATEGORIES:comedy
ATTACH;FMTTYPE=image/jpeg:https://minard.be/schouwburg/wp-content/uploads/2018/06/maanlander.jpeg
END:VEVENT
END:VCALENDAR