BEGIN:VCALENDAR
VERSION:2.0
PRODID:-//Minard - ECPv4.6.25//NONSGML v1.0//EN
CALSCALE:GREGORIAN
METHOD:PUBLISH
X-WR-CALNAME:Minard
X-ORIGINAL-URL:https://minard.be
X-WR-CALDESC:Events for Minard
BEGIN:VEVENT
DTSTART;TZID=UTC+1:20240217T200000
DTEND;TZID=UTC+1:20240217T220000
DTSTAMP:20260421T090451
CREATED:20231130T140225Z
LAST-MODIFIED:20231130T140225Z
UID:36095-1708200000-1708207200@minard.be
SUMMARY:RAMSES VAN DEN EEDE - THE FIGURE OF SPEECH albumvoorstelling
DESCRIPTION: \n  \nRamses Van den Eede is een melancholische romanticus\, een ethisch niet monogaam persoon\, die zich laat omringen door liefde en daardoor ook door verdriet en gemis.\nWaar zijn oud werk (als de zanger van Hypochristmutreefuzz) nog eerder afstandelijk en ontoegankelijk kon aanvoelen\, gebruikt hij nu zijn breekbaarheid als een vorm van radicale uiting tegen een harde wereld\, tegen een opgelegde mannelijkheid.\nGeïnspireerd door grootheden als Harry Nilsson\, schrijft hij tegenwoordig op een naïeve manier pianonummers en tracht hij clichés weer waarachtig te maken\, met een licht ironische toets en een vette knipoog naar crooners en cocktailjazz. \n  \n\n
URL:https://minard.be/voorstelling/ramses-van-den-eede-the-figure-of-speech-albumvoorstelling/
LOCATION:Minard\, Gent\, Gent\, 9000
CATEGORIES:concert
ATTACH;FMTTYPE=image/jpeg:https://minard.be/schouwburg/wp-content/uploads/2023/11/Ramses-vd-Eede.jpg
END:VEVENT
END:VCALENDAR